BEGIN:VCALENDAR
VERSION:2.0
PRODID:https://www.spoe.at
METHOD:PUBLISH
BEGIN:VEVENT
UID:69e7389d06943
DTSTAMP:20260421T084309Z
DTSTART;VALUE=DATE:20240708
DTEND;VALUE=DATE:20240709
SUMMARY:Petra Bayr beim HLPF 2024
DESCRIPTION:SPÖ-Abgeordnete Petra Bayr nimmt vom 8. Juli bis zum 16. Juli 2024 am Parlamentarischen Forum im Rahmen des Hochrangigen Politischen Forums über nachhaltige Entwicklung der Vereinten Nationen in New York (HLPF 2024) teil.
LOCATION:
END:VEVENT
END:VCALENDAR
