BEGIN:VCALENDAR
VERSION:2.0
PRODID:https://www.spoe.at
METHOD:PUBLISH
BEGIN:VEVENT
UID:69ecf02adbd84
DTSTAMP:20260425T164738Z
DTSTART;VALUE=DATE:20240826
DTEND;VALUE=DATE:20240827
SUMMARY:Andreas Babler beim ORF-„Sommergespräch“
DESCRIPTION:21.05 Uhr | SPÖ-Bundesparteivorsitzender Andreas Babler beim ORF-„Sommergespräch“ (ORF 2 und auf ORF ON).
LOCATION:
END:VEVENT
END:VCALENDAR
