BEGIN:VCALENDAR
VERSION:2.0
PRODID:https://www.spoe.at
METHOD:PUBLISH
BEGIN:VEVENT
UID:69e769e804a9e
DTSTAMP:20260421T121328Z
DTSTART:20250523T130000Z
DTEND:20250523T140000Z
SUMMARY:Marterbauer beim „Open Tabakfabrik Day“ in Linz
DESCRIPTION:Finanzminister Marterbauer beim „Open Tabakfabrik Day“ in Linz: Austausch mit innovativen Start-ups in Begleitung von Bürgermeister Prammer und SPÖ-OÖ-Vorsitzkandidat Martin Winkler. 
LOCATION:Tabakfabrik Linz Entwicklungs- und Betriebsgesellschaft mbH, Peter-Behrens-Platz 7–8, 4020 Linz
END:VEVENT
END:VCALENDAR
