BEGIN:VCALENDAR
VERSION:2.0
PRODID:https://www.spoe.at
METHOD:PUBLISH
BEGIN:VEVENT
UID:69e7418f7dae1
DTSTAMP:20260421T092119Z
DTSTART:20260306T090000Z
DTEND:20260306T225900Z
SUMMARY:Bundesfrauenkonferenz
DESCRIPTION:Die Bundesfrauenkonferenz 2026 findet unter dem Motto "Mit Sicherheit für die Frauen" statt. Bundesfrauenvorsitzende Eva-Maria Holzleitner tritt zur Wiederwahl an.
LOCATION:Messe Wien, Halle D, Trabrennstraße 7, 1020 Wien
END:VEVENT
END:VCALENDAR
