BEGIN:VCALENDAR
VERSION:2.0
PRODID:https://www.spoe.at
METHOD:PUBLISH
BEGIN:VEVENT
UID:69e660aebb6bb
DTSTAMP:20260420T172150Z
DTSTART:20260425T070000Z
DTEND:20260425T140000Z
SUMMARY:Wiener Landesparteitag 2026
DESCRIPTION:9.00 Uhr | Unter dem Motto „Wien schafft Zukunft“ findet am 25. April 2026 der Wiener Landesparteitag der SPÖ Wien statt. SPÖ-Parteivorsitzender, Vizekanzler Andreas Babler hält eine Rede (Messe Wien, Halle D).
LOCATION:Messe Wien, Halle D, Trabrennstraße 7, 1020 Wien
END:VEVENT
END:VCALENDAR
