BEGIN:VCALENDAR
VERSION:2.0
PRODID:https://www.spoe.at
METHOD:PUBLISH
BEGIN:VEVENT
UID:69e675a0e9703
DTSTAMP:20260420T185112Z
DTSTART:20260520T160000Z
DTEND:20260520T215900Z
SUMMARY:Vorpremiere Film „Bruno – Der junge Kreisky“
DESCRIPTION:18.00 Uhr | Die SPÖ-Bildung, die Welcome-Sektion der SPÖ Wien, das Renner Institut sowie die Wiener Bildungsakademie laden herzlich zur Vorpremiere des Films „Bruno – Der junge Kreisky“ ein (Filmcasino, Wien 5, Margaretenstraße 78).
LOCATION:Filmcasino, Wien 5, Margaretenstraße 78
END:VEVENT
END:VCALENDAR
