BEGIN:VCALENDAR
VERSION:2.0
PRODID:https://www.spoe.at
METHOD:PUBLISH
BEGIN:VEVENT
UID:69ec3356ba6fd
DTSTAMP:20260425T032158Z
DTSTART:20260501T081500Z
DTEND:20260501T215900Z
SUMMARY:Hoch der 1. Mai!
DESCRIPTION:10.15 Uhr | Mai-Kundgebung der SPÖ Wien auf dem Wiener Rathausplatz, bei der SPÖ-Bundesparteivorsitzender, Vizekanzler Andreas Babler eine Rede hält (Rathausplatz, Wien).
LOCATION:Rathausplatz, Wien
END:VEVENT
END:VCALENDAR
