BEGIN:VCALENDAR
VERSION:2.0
PRODID:https://www.spoe.at
METHOD:PUBLISH
BEGIN:VEVENT
UID:69e5a4c8d2c2a
DTSTAMP:20260420T040008Z
DTSTART;VALUE=DATE:20240119
DTEND;VALUE=DATE:20240120
SUMMARY:Demokratie braucht Feminismus
DESCRIPTION:Als feministischer Jahresauftakt und zum Gedenken an Barbara Prammer veranstalten die SPÖ-Bundesfrauen, der SPÖ-Parlamentsklub, das Karl-Renner-Institut und die Foundation for European Progressive Studies rund um den Geburtstag unserer ehemaligen Nationalratspräsidentin und Frauenvorsitzenden ein jährliches “Barbara-Prammer-Symposium”.
LOCATION:
END:VEVENT
END:VCALENDAR
