BEGIN:VCALENDAR
VERSION:2.0
PRODID:https://www.spoe.at
METHOD:PUBLISH
BEGIN:VEVENT
UID:69e649e089b29
DTSTAMP:20260420T154432Z
DTSTART;VALUE=DATE:20240202
DTEND;VALUE=DATE:20240203
SUMMARY:Pressekonferenz mit Petra Bayr
DESCRIPTION:Am Freitag, 2. Februar 2024, findet um 10.00 Uhr eine Online-Pressekonferenz mit Petra Bayr, SPÖ-Sprecherin für Außenpolitik und globale Entwicklung sowie Gründerin der Plattform stopFGM und Expertinnen statt. Thema der Pressekonferenz: „Der Beitrag der Wissenschaft zur Bekämpfung der weiblichen Genitalverstümmelung“.
LOCATION:
END:VEVENT
END:VCALENDAR
