BEGIN:VCALENDAR
VERSION:2.0
PRODID:https://www.spoe.at
METHOD:PUBLISH
BEGIN:VEVENT
UID:69eabd359b20e
DTSTAMP:20260424T004541Z
DTSTART;VALUE=DATE:20240205
DTEND;VALUE=DATE:20240206
SUMMARY:EPF-Präsidentin Bayr in Island
DESCRIPTION:Petra Bayr, Vorsitzende des Europäischen Parlamentarischen Forums für sexuelle und reproduktive Rechte (EPF), nimmt an der Gründungssitzung der überparteilichen Gruppe für sexuelle und reproduktive Rechte in Island im isländischen Parlament teil.
LOCATION:
END:VEVENT
END:VCALENDAR
