BEGIN:VCALENDAR
VERSION:2.0
PRODID:https://www.spoe.at
METHOD:PUBLISH
BEGIN:VEVENT
UID:69e97cd670779
DTSTAMP:20260423T015846Z
DTSTART;VALUE=DATE:20240206
DTEND;VALUE=DATE:20240207
SUMMARY:Pressegespräch mit Schieder und Sidl
DESCRIPTION:10.30 Uhr | Anlässlich der Plenartagung des Europäischen Parlaments (5. bis 8. Februar 2024 in Straßburg) laden die SPÖ-EU-Abgeordneten Andreas Schieder und Günther Sidl zu einem gemeinsamen Pressegespräch.
LOCATION:
END:VEVENT
END:VCALENDAR
