BEGIN:VCALENDAR
VERSION:2.0
PRODID:https://www.spoe.at
METHOD:PUBLISH
BEGIN:VEVENT
UID:69e56fd799ddb
DTSTAMP:20260420T001415Z
DTSTART;VALUE=DATE:20240208
DTEND;VALUE=DATE:20240209
SUMMARY:Petra Bayr bei IPU-Hearing
DESCRIPTION:Petra Bayr nimmt als Mitglied der IPU am Hearing der Interparlamentarischen Union in New York teil.
LOCATION:
END:VEVENT
END:VCALENDAR
