BEGIN:VCALENDAR
VERSION:2.0
PRODID:https://www.spoe.at
METHOD:PUBLISH
BEGIN:VEVENT
UID:69ed34467a33f
DTSTAMP:20260425T213814Z
DTSTART;VALUE=DATE:20240222
DTEND;VALUE=DATE:20240223
SUMMARY:Logik der Angst
DESCRIPTION:19.00 Uhr | Im Rahmen der Veranstaltungsreihe „Genial Dagegen“, kuratiert von Robert Misik, spricht Peter R. Neumann zum Thema „Logik der Angst“.
LOCATION:
END:VEVENT
END:VCALENDAR
