BEGIN:VCALENDAR
VERSION:2.0
PRODID:https://www.spoe.at
METHOD:PUBLISH
BEGIN:VEVENT
UID:69ed8266313fb
DTSTAMP:20260426T031134Z
DTSTART;VALUE=DATE:20240421
DTEND;VALUE=DATE:20240422
SUMMARY:Buchpräsentation mit Hannes Heide
DESCRIPTION:18.00 Uhr | SPÖ-EU-Abgeordneter Hannes Heide lädt zur Buchpräsentation &#8222;Begegnungen, die niemals stattgefunden haben&#8220; des verstorbenen Autors und SPÖ-Politikers Christian Dickinger, dessen Buch posthum erschienen ist (Wirtshauslabor Bad Ischl).
LOCATION:
END:VEVENT
END:VCALENDAR
