BEGIN:VCALENDAR
VERSION:2.0
PRODID:https://www.spoe.at
METHOD:PUBLISH
BEGIN:VEVENT
UID:69e5d1fe48c8d
DTSTAMP:20260420T071302Z
DTSTART;VALUE=DATE:20240506
DTEND;VALUE=DATE:20240507
SUMMARY:Kinderarbeit stoppen!
DESCRIPTION:17.00 Uhr | SPÖ-Bundesparteivorsitzender Andreas Babler und die Wiener Kinderfreunde gestalten mit Kindern ein &#8222;Reverse Graffiti&#8220; zu &#8222;Kinderarbeit stoppen!&#8220; vor der SPÖ-Bundesgeschäftsstelle (Löwelstraße 18, 1010 Wien).
LOCATION:
END:VEVENT
END:VCALENDAR
