BEGIN:VCALENDAR
VERSION:2.0
PRODID:https://www.spoe.at
METHOD:PUBLISH
BEGIN:VEVENT
UID:69e837bf2e976
DTSTAMP:20260422T025143Z
DTSTART;VALUE=DATE:20240507
DTEND;VALUE=DATE:20240508
SUMMARY:Doris Bures bei Symposium
DESCRIPTION:18.00 Uhr | Die Zweite Nationalratspräsidentin Doris Bures spricht bei einem Symposium zu Ehren der verstorbenen Prof.in Käthe Sasso.
LOCATION:
END:VEVENT
END:VCALENDAR
