BEGIN:VCALENDAR
VERSION:2.0
PRODID:https://www.spoe.at
METHOD:PUBLISH
BEGIN:VEVENT
UID:69e7fd5d185cb
DTSTAMP:20260421T224237Z
DTSTART;VALUE=DATE:20240521
DTEND;VALUE=DATE:20240522
SUMMARY:COFAG-Untersuchungsausschuss
DESCRIPTION:10.00 Uhr | Der COFAG-Untersuchungsausschuss tagt (Parlament, Erwin Schrödinger-Lokal 1, Dr.-Karl-Renner-Ring 1-3, 1010 Wien).
LOCATION:
END:VEVENT
END:VCALENDAR
